BEGIN:VCALENDAR
VERSION:2.0
PRODID:-//Tukios.com/
BEGIN:VEVENT
UID:456293e2-ecbb-4542-b050-9163086a6ab8@www.conroyfh.com
DTSTAMP:20260423T190220Z
DTSTART:20260428T170000Z
DTEND:20260428T180000Z
SUMMARY:Visitation
DESCRIPTION:
URL:https://www.conroyfh.com/obituaries/victor-kulisek
LOCATION:Advent Lutheran Church 3660 Kenny Road  Columbus OH 43220
GEO:40.0331623;-83.0503875
END:VEVENT
END:VCALENDAR