BEGIN:VCALENDAR
VERSION:2.0
PRODID:-//Tukios.com/
BEGIN:VEVENT
UID:162859af-cefd-4a13-acfc-13c961a76ac6@www.conroyfh.com
DTSTAMP:20260423T190152Z
DTSTART:20260428T180000Z
DTEND:20260428T190000Z
SUMMARY:Memorial Service
DESCRIPTION:
URL:https://www.conroyfh.com/obituaries/victor-kulisek
LOCATION:Advent Lutheran Church 3660 Kenny Road  Columbus OH 43220
GEO:40.0331623;-83.0503875
END:VEVENT
END:VCALENDAR