BEGIN:VCALENDAR
VERSION:2.0
PRODID:-//Tukios.com/
BEGIN:VEVENT
UID:77a06acc-f1d8-4c62-895c-ec88b92ecebc@www.conroyfh.com
DTSTAMP:20260422T201101Z
DTSTART:20260426T190000Z
DTEND:20260426T200000Z
SUMMARY:Memorial Service
DESCRIPTION:
URL:https://www.conroyfh.com/obituaries/peter-mullen
LOCATION: 1660 E. High St.  Springfield OH 45505
GEO:39.9216812;-83.7836568
END:VEVENT
END:VCALENDAR