BEGIN:VCALENDAR
VERSION:2.0
PRODID:-//Tukios.com/
BEGIN:VEVENT
UID:7324f4c0-a1fd-4017-8a84-970e056b6e8d@www.conroyfh.com
DTSTAMP:20260422T200232Z
DTSTART:20260426T170000Z
DTEND:20260426T190000Z
SUMMARY:Visitation
DESCRIPTION:
URL:https://www.conroyfh.com/obituaries/peter-mullen
LOCATION: 1660 E. High St.  Springfield OH 45505
GEO:39.9216812;-83.7836568
END:VEVENT
END:VCALENDAR